BEGIN:VCALENDAR
VERSION:2.0
PRODID:-//bsv-schefflenz1 - ECPv6.0.7.1//NONSGML v1.0//EN
CALSCALE:GREGORIAN
METHOD:PUBLISH
X-WR-CALNAME:bsv-schefflenz1
X-ORIGINAL-URL:https://bsv-schefflenz.eu
X-WR-CALDESC:Veranstaltungen für bsv-schefflenz1
REFRESH-INTERVAL;VALUE=DURATION:PT1H
X-Robots-Tag:noindex
X-PUBLISHED-TTL:PT1H
BEGIN:VTIMEZONE
TZID:Europe/Berlin
BEGIN:DAYLIGHT
TZOFFSETFROM:+0100
TZOFFSETTO:+0200
TZNAME:CEST
DTSTART:20240331T010000
END:DAYLIGHT
BEGIN:STANDARD
TZOFFSETFROM:+0200
TZOFFSETTO:+0100
TZNAME:CET
DTSTART:20241027T010000
END:STANDARD
END:VTIMEZONE
BEGIN:VEVENT
DTSTART;TZID=Europe/Berlin:20240525T090000
DTEND;TZID=Europe/Berlin:20240526T170000
DTSTAMP:20260425T175135
CREATED:20231209T140133Z
LAST-MODIFIED:20231209T140133Z
UID:5040-1716627600-1716742800@bsv-schefflenz.eu
SUMMARY:Bezirksmeisterschaft FITA BVBW
DESCRIPTION:zur Ausschreibung der BM FITA BVBW
URL:https://bsv-schefflenz.eu/event/bezirksmeisterschaft-fita-bvbw/
LOCATION:Echo Wiesental\, Seppl-Herberger-Ring 16\, Waghäusel\, 68753\, Deutschland
CATEGORIES:Meisterschaften
END:VEVENT
END:VCALENDAR