BEGIN:VCALENDAR
VERSION:2.0
PRODID:-//bsv-schefflenz1 - ECPv6.0.7.1//NONSGML v1.0//EN
CALSCALE:GREGORIAN
METHOD:PUBLISH
X-WR-CALNAME:bsv-schefflenz1
X-ORIGINAL-URL:https://bsv-schefflenz.eu
X-WR-CALDESC:Veranstaltungen für bsv-schefflenz1
REFRESH-INTERVAL;VALUE=DURATION:PT1H
X-Robots-Tag:noindex
X-PUBLISHED-TTL:PT1H
BEGIN:VTIMEZONE
TZID:Europe/Berlin
BEGIN:DAYLIGHT
TZOFFSETFROM:+0100
TZOFFSETTO:+0200
TZNAME:CEST
DTSTART:20240331T010000
END:DAYLIGHT
BEGIN:STANDARD
TZOFFSETFROM:+0200
TZOFFSETTO:+0100
TZNAME:CET
DTSTART:20241027T010000
END:STANDARD
END:VTIMEZONE
BEGIN:VEVENT
DTSTART;TZID=Europe/Berlin:20240622T090000
DTEND;TZID=Europe/Berlin:20240623T170000
DTSTAMP:20260423T165321
CREATED:20231209T141448Z
LAST-MODIFIED:20240307T095248Z
UID:5051-1719046800-1719162000@bsv-schefflenz.eu
SUMMARY:Landesmeisterschaft FITA BVBW
DESCRIPTION:zur Ausschreibung LM FITA BVBW in Ohrnberg
URL:https://bsv-schefflenz.eu/event/landesmeisterschaft-fita-bvbw/
LOCATION:Bogensport Ohrnberg\, Hertlingweg\, Öhringen\, 74613
CATEGORIES:Meisterschaften
END:VEVENT
END:VCALENDAR