BEGIN:VCALENDAR
VERSION:2.0
PRODID:-//bsv-schefflenz1 - ECPv6.0.7.1//NONSGML v1.0//EN
CALSCALE:GREGORIAN
METHOD:PUBLISH
X-ORIGINAL-URL:https://bsv-schefflenz.eu
X-WR-CALDESC:Veranstaltungen für bsv-schefflenz1
REFRESH-INTERVAL;VALUE=DURATION:PT1H
X-Robots-Tag:noindex
X-PUBLISHED-TTL:PT1H
BEGIN:VTIMEZONE
TZID:Europe/Berlin
BEGIN:DAYLIGHT
TZOFFSETFROM:+0100
TZOFFSETTO:+0200
TZNAME:CEST
DTSTART:20240331T010000
END:DAYLIGHT
BEGIN:STANDARD
TZOFFSETFROM:+0200
TZOFFSETTO:+0100
TZNAME:CET
DTSTART:20241027T010000
END:STANDARD
END:VTIMEZONE
BEGIN:VEVENT
DTSTART;TZID=Europe/Berlin:20240720T080000
DTEND;TZID=Europe/Berlin:20240721T170000
DTSTAMP:20260423T152510
CREATED:20240719T070503Z
LAST-MODIFIED:20240719T070503Z
UID:6038-1721462400-1721581200@bsv-schefflenz.eu
SUMMARY:LM WA Bogen im Freien 2024 DSB in Eggenstein
DESCRIPTION:Ausschreibung \nGruppe 1\n08:00 Uhr Ausgabe der Startnummern / Gerätekontrolle\n08:45 Uhr Begrüßung / Einschießen\n09:30 Uhr Beginn der Meisterschaft\nGruppe 2\n13:30 Uhr Ausgabe der Startnummern / Gerätekontrolle\n14:15 Uhr Begrüßung / Einschießen\n15:00 Uhr Beginn der Meisterschaft\n3.2 Sonntag\nGruppe 3\n08:00 Uhr Ausgabe der Startnummern / Gerätekontrolle\n08:45 Uhr Begrüßung / Einschießen\n09:30 Uhr Beginn der Meisterschaft\nGruppe 4\n13:30 Uhr Ausgabe der Startnummern / Gerätekontrolle\n14:15 Uhr Begrüßung / Einschießen\n15:00 Uhr Beginn der Meisterschaft
URL:https://bsv-schefflenz.eu/event/lm-wa-bogen-im-freien-2024-dsb-in-eggenstein/
LOCATION:76344 Eggenstein-Leopoldshafen\, Kopfweg 8\, Eggenstein-Leoplodshafen\, 76344
CATEGORIES:Meisterschaften
END:VEVENT
END:VCALENDAR