BEGIN:VCALENDAR
VERSION:2.0
PRODID:-//bsv-schefflenz1 - ECPv6.0.7.1//NONSGML v1.0//EN
CALSCALE:GREGORIAN
METHOD:PUBLISH
X-WR-CALNAME:bsv-schefflenz1
X-ORIGINAL-URL:https://bsv-schefflenz.eu
X-WR-CALDESC:Veranstaltungen für bsv-schefflenz1
REFRESH-INTERVAL;VALUE=DURATION:PT1H
X-Robots-Tag:noindex
X-PUBLISHED-TTL:PT1H
BEGIN:VTIMEZONE
TZID:Europe/Berlin
BEGIN:DAYLIGHT
TZOFFSETFROM:+0100
TZOFFSETTO:+0200
TZNAME:CEST
DTSTART:20240331T010000
END:DAYLIGHT
BEGIN:STANDARD
TZOFFSETFROM:+0200
TZOFFSETTO:+0100
TZNAME:CET
DTSTART:20241027T010000
END:STANDARD
END:VTIMEZONE
BEGIN:VEVENT
DTSTART;TZID=Europe/Berlin:20240824T080000
DTEND;TZID=Europe/Berlin:20240825T170000
DTSTAMP:20260423T134305
CREATED:20240101T114526Z
LAST-MODIFIED:20240101T114526Z
UID:5248-1724486400-1724605200@bsv-schefflenz.eu
SUMMARY:DM FITA D/H/Altersklasse 2024 DBSV
DESCRIPTION:Ausschreibung
URL:https://bsv-schefflenz.eu/event/dm-fita-d-h-altersklasse-2024-dbsv/
LOCATION:Hamburg\, Am Keustück 28\, Hamburg\, 22415\, Deutschland
END:VEVENT
END:VCALENDAR