BEGIN:VCALENDAR
VERSION:2.0
PRODID:-//bsv-schefflenz1 - ECPv6.0.7.1//NONSGML v1.0//EN
CALSCALE:GREGORIAN
METHOD:PUBLISH
X-WR-CALNAME:bsv-schefflenz1
X-ORIGINAL-URL:https://bsv-schefflenz.eu
X-WR-CALDESC:Veranstaltungen für bsv-schefflenz1
REFRESH-INTERVAL;VALUE=DURATION:PT1H
X-Robots-Tag:noindex
X-PUBLISHED-TTL:PT1H
BEGIN:VTIMEZONE
TZID:Europe/Berlin
BEGIN:DAYLIGHT
TZOFFSETFROM:+0100
TZOFFSETTO:+0200
TZNAME:CEST
DTSTART:20240331T010000
END:DAYLIGHT
BEGIN:STANDARD
TZOFFSETFROM:+0200
TZOFFSETTO:+0100
TZNAME:CET
DTSTART:20241027T010000
END:STANDARD
END:VTIMEZONE
BEGIN:VEVENT
DTSTART;VALUE=DATE:20240901
DTEND;VALUE=DATE:20240902
DTSTAMP:20260423T104639
CREATED:20240331T103045Z
LAST-MODIFIED:20240331T103207Z
UID:5595-1725148800-1725235199@bsv-schefflenz.eu
SUMMARY:Mähen im September 2024
DESCRIPTION:Markus/Alexander/Lukas
URL:https://bsv-schefflenz.eu/event/maehen-im-september-2/
LOCATION:Bogenplatz/Clubheim des BSV Schefflenz\, 97XX+5V Schefflenz\, Schefflenz\, 74850\, Deutschland
CATEGORIES:Arbeitseinsätze
END:VEVENT
END:VCALENDAR