BEGIN:VCALENDAR
VERSION:2.0
PRODID:-//bsv-schefflenz1 - ECPv6.0.7.1//NONSGML v1.0//EN
CALSCALE:GREGORIAN
METHOD:PUBLISH
X-WR-CALNAME:bsv-schefflenz1
X-ORIGINAL-URL:https://bsv-schefflenz.eu
X-WR-CALDESC:Veranstaltungen für bsv-schefflenz1
REFRESH-INTERVAL;VALUE=DURATION:PT1H
X-Robots-Tag:noindex
X-PUBLISHED-TTL:PT1H
BEGIN:VTIMEZONE
TZID:Europe/Berlin
BEGIN:DAYLIGHT
TZOFFSETFROM:+0100
TZOFFSETTO:+0200
TZNAME:CEST
DTSTART:20240331T010000
END:DAYLIGHT
BEGIN:STANDARD
TZOFFSETFROM:+0200
TZOFFSETTO:+0100
TZNAME:CET
DTSTART:20241027T010000
END:STANDARD
END:VTIMEZONE
BEGIN:VEVENT
DTSTART;TZID=Europe/Berlin:20240908T080000
DTEND;TZID=Europe/Berlin:20240908T170000
DTSTAMP:20260421T143408
CREATED:20231209T163427Z
LAST-MODIFIED:20240902T134308Z
UID:5079-1725782400-1725814800@bsv-schefflenz.eu
SUMMARY:Arbeitseinsatz MSC helfen
DESCRIPTION:
URL:https://bsv-schefflenz.eu/event/arbeitseinsatz-msc-helfen/
LOCATION:Steinbruchweg 74850 Schefflenz\, Steinbruchweg\, Schefflenz-U\, 74850\, Deutschland
CATEGORIES:Arbeitseinsätze
END:VEVENT
END:VCALENDAR