BEGIN:VCALENDAR
VERSION:2.0
PRODID:-//bsv-schefflenz1 - ECPv6.0.7.1//NONSGML v1.0//EN
CALSCALE:GREGORIAN
METHOD:PUBLISH
X-ORIGINAL-URL:https://bsv-schefflenz.eu
X-WR-CALDESC:Veranstaltungen für bsv-schefflenz1
REFRESH-INTERVAL;VALUE=DURATION:PT1H
X-Robots-Tag:noindex
X-PUBLISHED-TTL:PT1H
BEGIN:VTIMEZONE
TZID:Europe/Berlin
BEGIN:DAYLIGHT
TZOFFSETFROM:+0100
TZOFFSETTO:+0200
TZNAME:CEST
DTSTART:20240331T010000
END:DAYLIGHT
BEGIN:STANDARD
TZOFFSETFROM:+0200
TZOFFSETTO:+0100
TZNAME:CET
DTSTART:20241027T010000
END:STANDARD
END:VTIMEZONE
BEGIN:VEVENT
DTSTART;TZID=Europe/Berlin:20240914T080000
DTEND;TZID=Europe/Berlin:20240915T170000
DTSTAMP:20260423T105037
CREATED:20231209T163919Z
LAST-MODIFIED:20231209T163919Z
UID:5083-1726300800-1726419600@bsv-schefflenz.eu
SUMMARY:Deutsche Meisterschaft Jugend DBSV
DESCRIPTION:zur Ausschreibung DM Jugend DBSV
URL:https://bsv-schefflenz.eu/event/deutsche-meisterschaft-jugend-dbsv/
LOCATION:Jena\, Oberaue 20\, Jena\, 07749
CATEGORIES:Meisterschaften
END:VEVENT
BEGIN:VEVENT
DTSTART;TZID=Europe/Berlin:20240915T083000
DTEND;TZID=Europe/Berlin:20240915T130000
DTSTAMP:20260423T105037
CREATED:20240616T082923Z
LAST-MODIFIED:20240913T105537Z
UID:5888-1726389000-1726405200@bsv-schefflenz.eu
SUMMARY:abgesagt !!              nachzuholende VM 3D
DESCRIPTION:wir treffen uns um 8:30 Uhr am Bogenplatz und fahren dann gemeinsam zum 3D Parcours Kummertsklinge
URL:https://bsv-schefflenz.eu/event/nachzuholende-vm-3d/
LOCATION:3D Parcours Kummertsklinge\, 49.62198\, 9.30875
CATEGORIES:Meisterschaften
END:VEVENT
END:VCALENDAR