BEGIN:VCALENDAR
VERSION:2.0
PRODID:-//bsv-schefflenz1 - ECPv6.0.7.1//NONSGML v1.0//EN
CALSCALE:GREGORIAN
METHOD:PUBLISH
X-WR-CALNAME:bsv-schefflenz1
X-ORIGINAL-URL:https://bsv-schefflenz.eu
X-WR-CALDESC:Veranstaltungen für bsv-schefflenz1
REFRESH-INTERVAL;VALUE=DURATION:PT1H
X-Robots-Tag:noindex
X-PUBLISHED-TTL:PT1H
BEGIN:VTIMEZONE
TZID:Europe/Berlin
BEGIN:DAYLIGHT
TZOFFSETFROM:+0100
TZOFFSETTO:+0200
TZNAME:CEST
DTSTART:20240331T010000
END:DAYLIGHT
BEGIN:STANDARD
TZOFFSETFROM:+0200
TZOFFSETTO:+0100
TZNAME:CET
DTSTART:20241027T010000
END:STANDARD
END:VTIMEZONE
BEGIN:VEVENT
DTSTART;VALUE=DATE:20240916
DTEND;VALUE=DATE:20240917
DTSTAMP:20260423T104646
CREATED:20240916T151634Z
LAST-MODIFIED:20240916T151634Z
UID:6514-1726444800-1726531199@bsv-schefflenz.eu
SUMMARY:Hallentraining startet bald
DESCRIPTION:Bald ist es wieder soweit\, die Tage werden kürzer und es wird deutlich kühler was die Hallensaison ankündigt. Ab Okt. geht es in die Roedderhalle ( Hofacker 3   74850 Schefflenz )\, erstes Training ist am Do. 10. Okt. 2024 ab 18 Uhr für die Jugend und ab 19:15 Uhr für die Erwachsenen dann bis 20:30 Uhr.\nBis Ende März findet dann immer das Do. Training statt\, Ausnahmen wie Feiertage\, Ferien usw. werden mitgeteilt.\nEin zweites Training in der Woche ist aktuell nicht Möglich da VHS-Kurs stattfinden.\nAuf dem Bogenplatz kann weiterhin uneingeschränkt geschossen werden bei reduzierter Scheibenanzahl.
URL:https://bsv-schefflenz.eu/event/hallentraining-startet-bald/
LOCATION:Roedderhalle Hallentraining\, Hofacker 4\, Schefflenz\, 74850\, Deutschland
CATEGORIES:Training
END:VEVENT
END:VCALENDAR