BEGIN:VCALENDAR
VERSION:2.0
PRODID:-//bsv-schefflenz1 - ECPv6.0.7.1//NONSGML v1.0//EN
CALSCALE:GREGORIAN
METHOD:PUBLISH
X-ORIGINAL-URL:https://bsv-schefflenz.eu
X-WR-CALDESC:Veranstaltungen für bsv-schefflenz1
REFRESH-INTERVAL;VALUE=DURATION:PT1H
X-Robots-Tag:noindex
X-PUBLISHED-TTL:PT1H
BEGIN:VTIMEZONE
TZID:Europe/Berlin
BEGIN:DAYLIGHT
TZOFFSETFROM:+0100
TZOFFSETTO:+0200
TZNAME:CEST
DTSTART:20240331T010000
END:DAYLIGHT
BEGIN:STANDARD
TZOFFSETFROM:+0200
TZOFFSETTO:+0100
TZNAME:CET
DTSTART:20241027T010000
END:STANDARD
END:VTIMEZONE
BEGIN:VEVENT
DTSTART;TZID=Europe/Berlin:20241114T203000
DTEND;TZID=Europe/Berlin:20241114T213000
DTSTAMP:20260423T104842
CREATED:20231209T164819Z
LAST-MODIFIED:20231209T164819Z
UID:5096-1731616200-1731619800@bsv-schefflenz.eu
SUMMARY:Versammlung November 2024
DESCRIPTION:
URL:https://bsv-schefflenz.eu/event/versammlung-november-2024/
LOCATION:Bogenplatz/Clubheim des BSV Schefflenz\, 97XX+5V Schefflenz\, Schefflenz\, 74850\, Deutschland
CATEGORIES:Versammlungen
END:VEVENT
END:VCALENDAR