BEGIN:VCALENDAR
VERSION:2.0
PRODID:-//bsv-schefflenz1 - ECPv6.0.7.1//NONSGML v1.0//EN
CALSCALE:GREGORIAN
METHOD:PUBLISH
X-ORIGINAL-URL:https://bsv-schefflenz.eu
X-WR-CALDESC:Veranstaltungen für bsv-schefflenz1
REFRESH-INTERVAL;VALUE=DURATION:PT1H
X-Robots-Tag:noindex
X-PUBLISHED-TTL:PT1H
BEGIN:VTIMEZONE
TZID:Europe/Berlin
BEGIN:DAYLIGHT
TZOFFSETFROM:+0100
TZOFFSETTO:+0200
TZNAME:CEST
DTSTART:20240331T010000
END:DAYLIGHT
BEGIN:STANDARD
TZOFFSETFROM:+0200
TZOFFSETTO:+0100
TZNAME:CET
DTSTART:20241027T010000
END:STANDARD
END:VTIMEZONE
BEGIN:VEVENT
DTSTART;TZID=Europe/Berlin:20241010T180000
DTEND;TZID=Europe/Berlin:20241010T203000
DTSTAMP:20260419T140035
CREATED:20240916T152036Z
LAST-MODIFIED:20240916T152036Z
UID:6516-1728583200-1728592200@bsv-schefflenz.eu
SUMMARY:1. Hallentraining
DESCRIPTION:von 18 Uhr bis 19:15 Uhr Jugendtraining\nvon 19:15 Uhr bis 20:30 Uhr Erwachsenentraining \nweiter immer Donnerstags bis Ende März 2025 \,\nsollte kein Training möglich sein wegen Ferien usw.\nwird dies mitgeteilt.
URL:https://bsv-schefflenz.eu/event/1-hallentraining/
LOCATION:Roedderhalle Hallentraining\, Hofacker 4\, Schefflenz\, 74850\, Deutschland
CATEGORIES:Training
END:VEVENT
BEGIN:VEVENT
DTSTART;TZID=Europe/Berlin:20241010T203000
DTEND;TZID=Europe/Berlin:20241010T213000
DTSTAMP:20260419T140035
CREATED:20231209T164410Z
LAST-MODIFIED:20231209T164410Z
UID:5090-1728592200-1728595800@bsv-schefflenz.eu
SUMMARY:Versammlung Oktober 2024
DESCRIPTION:
URL:https://bsv-schefflenz.eu/event/versammlung-oktober-2024/
LOCATION:Bogenplatz/Clubheim des BSV Schefflenz\, 97XX+5V Schefflenz\, Schefflenz\, 74850\, Deutschland
CATEGORIES:Versammlungen
END:VEVENT
BEGIN:VEVENT
DTSTART;TZID=Europe/Berlin:20241012T090000
DTEND;TZID=Europe/Berlin:20241012T150000
DTSTAMP:20260419T140035
CREATED:20231209T164506Z
LAST-MODIFIED:20231209T164506Z
UID:5092-1728723600-1728745200@bsv-schefflenz.eu
SUMMARY:Arbeitseinsatz Platz abräumen
DESCRIPTION:
URL:https://bsv-schefflenz.eu/event/arbeitseinsatz-platz-abraeumen-3/
LOCATION:Bogenplatz/Clubheim des BSV Schefflenz\, 97XX+5V Schefflenz\, Schefflenz\, 74850\, Deutschland
CATEGORIES:Arbeitseinsätze
END:VEVENT
END:VCALENDAR